BEGIN:VCALENDAR
VERSION:2.0
PRODID:-//Pfadi Sarnen - ECPv5.16.1.1//NONSGML v1.0//EN
CALSCALE:GREGORIAN
METHOD:PUBLISH
X-WR-CALNAME:Pfadi Sarnen
X-ORIGINAL-URL:https://www.pfadi-sarnen.ch
X-WR-CALDESC:Veranstaltungen für Pfadi Sarnen
REFRESH-INTERVAL;VALUE=DURATION:PT1H
X-Robots-Tag:noindex
X-PUBLISHED-TTL:PT1H
BEGIN:VTIMEZONE
TZID:Europe/Berlin
BEGIN:DAYLIGHT
TZOFFSETFROM:+0100
TZOFFSETTO:+0200
TZNAME:CEST
DTSTART:20210328T010000
END:DAYLIGHT
BEGIN:STANDARD
TZOFFSETFROM:+0200
TZOFFSETTO:+0100
TZNAME:CET
DTSTART:20211031T010000
END:STANDARD
END:VTIMEZONE
BEGIN:VEVENT
DTSTART;TZID=Europe/Berlin:20210828T140000
DTEND;TZID=Europe/Berlin:20210828T170000
DTSTAMP:20260426T041450
CREATED:20201010T113348Z
LAST-MODIFIED:20210825T174538Z
UID:2123-1630159200-1630170000@www.pfadi-sarnen.ch
SUMMARY:Pfadiaktivität
DESCRIPTION:Wir laden alle Pfaditeilnehmer zu unserer ultimativen Pfadiaktivität ein\, in der wir den grössten aller Pfader bestimmen. Erscheint alle wie gewohnt um 2 Uhr vor dem Pfadiheim zu unserer vielleicht grössten Aktivität aller Zeiten!!
URL:https://www.pfadi-sarnen.ch/kalender/woelfli-pfadiaktivitaet-22/
LOCATION:Pfadiheim\, Sarnen\, Pfadiheim\, Sarnen\, 6060\, Schweiz
CATEGORIES:Pfadi
ORGANIZER;CN="Bl%C3%B6ff":MAILTO:dariusburch4@gmail.com
END:VEVENT
BEGIN:VEVENT
DTSTART;TZID=Europe/Berlin:20210828T140000
DTEND;TZID=Europe/Berlin:20210828T170000
DTSTAMP:20260426T041450
CREATED:20210826T185551Z
LAST-MODIFIED:20210826T185551Z
UID:2379-1630159200-1630170000@www.pfadi-sarnen.ch
SUMMARY:Wölfliaktivität
DESCRIPTION:Liebi Wölflis \nMier freued üs üch nach de lange Summerferie wieder dörfe zbegrüässä! Mier wärded midenand en Chilbi-OL verahstalte und lueged wer de Gwünn abrumt. \nBitte folgendes midneh: \n\nPfadihemd und Krawatte\nWetterangepasste Kleidung\nTrinkflasche\n\nBis den eure Wölflileiter 😉
URL:https://www.pfadi-sarnen.ch/kalender/woelfliaktivitaet-6/
CATEGORIES:Wölfli
END:VEVENT
END:VCALENDAR