BEGIN:VCALENDAR
VERSION:2.0
PRODID:-//Pfadi Sarnen - ECPv5.16.1.1//NONSGML v1.0//EN
CALSCALE:GREGORIAN
METHOD:PUBLISH
X-ORIGINAL-URL:https://www.pfadi-sarnen.ch
X-WR-CALDESC:Veranstaltungen für Pfadi Sarnen
REFRESH-INTERVAL;VALUE=DURATION:PT1H
X-Robots-Tag:noindex
X-PUBLISHED-TTL:PT1H
BEGIN:VTIMEZONE
TZID:Europe/Berlin
BEGIN:DAYLIGHT
TZOFFSETFROM:+0100
TZOFFSETTO:+0200
TZNAME:CEST
DTSTART:20210328T010000
END:DAYLIGHT
BEGIN:STANDARD
TZOFFSETFROM:+0200
TZOFFSETTO:+0100
TZNAME:CET
DTSTART:20211031T010000
END:STANDARD
END:VTIMEZONE
BEGIN:VEVENT
DTSTART;TZID=Europe/Berlin:20211120T140000
DTEND;TZID=Europe/Berlin:20211120T170000
DTSTAMP:20260426T001604
CREATED:20210926T124805Z
LAST-MODIFIED:20211116T192127Z
UID:2422-1637416800-1637427600@www.pfadi-sarnen.ch
SUMMARY:Aktivität
DESCRIPTION:Liebe Pfadis\, am Samstag dem 20.11.2021 findet wieder eine supercoole Aktivität statt\, wir werden uns durch Sarnen bewegen und viel Spass haben. Bitte nehmt wetterangepasste Kleider und  einen kleinen Snack mit. \nZeit und Ort: 14:00 beim Pfadiheim\, Ende 17:00 Pfadiheim \nWir freuen uns auf euch 🙂 \nEuer Leitungsteam \n  \n 
URL:https://www.pfadi-sarnen.ch/kalender/aktivitaet/
LOCATION:Pfadiheim
CATEGORIES:Pfadi
ORGANIZER;CN="Bl%C3%B6ff":MAILTO:dariusburch4@gmail.com
END:VEVENT
BEGIN:VEVENT
DTSTART;TZID=Europe/Berlin:20211120T140000
DTEND;TZID=Europe/Berlin:20211120T170000
DTSTAMP:20260426T001605
CREATED:20211117T143719Z
LAST-MODIFIED:20211120T110448Z
UID:2488-1637416800-1637427600@www.pfadi-sarnen.ch
SUMMARY:Wölflistufen Aktivität
DESCRIPTION:Hoi zusammen \nAm Samstag ist wieder eine Aktivität! Wichtig Treffpunkt ist um 14.00 Uhr in Sarnen am Bahnhof…bitte pünktlich sein. Wir gehen auf das Postauto. \nMitnehmen: Wanderschuhe\, Trinken (Bei Bedarf Tee)\, wetterangepasste Kleidung! \nWir freuen uns. 🙂 \nEure Wölflistufe \nWichtig: Wir sind erst um 17.30 Uhr zurück \n \nBei Fragen Spatz 078 764 78 82
URL:https://www.pfadi-sarnen.ch/kalender/woelflistufen-aktivitaet/
CATEGORIES:Wölfli
END:VEVENT
END:VCALENDAR