BEGIN:VCALENDAR
VERSION:2.0
PRODID:-//Pfadi Sarnen - ECPv5.16.1.1//NONSGML v1.0//EN
CALSCALE:GREGORIAN
METHOD:PUBLISH
X-WR-CALNAME:Pfadi Sarnen
X-ORIGINAL-URL:https://www.pfadi-sarnen.ch
X-WR-CALDESC:Veranstaltungen für Pfadi Sarnen
REFRESH-INTERVAL;VALUE=DURATION:PT1H
X-Robots-Tag:noindex
X-PUBLISHED-TTL:PT1H
BEGIN:VTIMEZONE
TZID:Europe/Berlin
BEGIN:DAYLIGHT
TZOFFSETFROM:+0100
TZOFFSETTO:+0200
TZNAME:CEST
DTSTART:20210328T010000
END:DAYLIGHT
BEGIN:STANDARD
TZOFFSETFROM:+0200
TZOFFSETTO:+0100
TZNAME:CET
DTSTART:20211031T010000
END:STANDARD
END:VTIMEZONE
BEGIN:VEVENT
DTSTART;VALUE=DATE:20211218
DTEND;VALUE=DATE:20211219
DTSTAMP:20260425T230043
CREATED:20210926T124915Z
LAST-MODIFIED:20211218T073920Z
UID:2426-1639785600-1639871999@www.pfadi-sarnen.ch
SUMMARY:Waldweihnachten 18. Dezember 2021
DESCRIPTION:Liebe Wölflis\, liebe Pfädeler\, liebe Pios\, liebe Leiter und liebe Eltern \nWir laden euch zur diesjährigen Waldweihnachten vom 18. Dezember 2021\, ab 17 Uhr im Pfadiheim in Sarnen ein. (Bitte reist nicht mit dem Auto an\, die Parkplätze beim Pfadiheim werden bereits besetzt sein – DANKE!) \nMitnehmen (für jeden von euch):\n* Wetterangepasste Kleidung (es findet alles im Freien statt)\n* Becher für Tee/Punsch\n* Schale/Schüsseli und Löffel für die Suppe\n* Maskenpflicht ab 12 Jahren!! \nBei weiteren Massnahmen vom Bundesrat werden wir euch über den Anschlag und den Elternchat informieren.\n=> Bitte am Freitag\, 17. Dezember 2021 nochmals den Anschlag anschauen! \nWir freuen uns auf euer Erscheinen und Wünschen euch bis dahin lichtervolle & besinnliche Adventstage.\nLiebe Grüsse Eure Leiter \nEinladung Waldweihnahten
URL:https://www.pfadi-sarnen.ch/kalender/waldweihnachten-2/
CATEGORIES:Allgemein,Pfadi,Pios,Wölfli
END:VEVENT
END:VCALENDAR