BEGIN:VCALENDAR
VERSION:2.0
PRODID:-//Pfadi Sarnen - ECPv5.16.1.1//NONSGML v1.0//EN
CALSCALE:GREGORIAN
METHOD:PUBLISH
X-ORIGINAL-URL:https://www.pfadi-sarnen.ch
X-WR-CALDESC:Veranstaltungen für Pfadi Sarnen
REFRESH-INTERVAL;VALUE=DURATION:PT1H
X-Robots-Tag:noindex
X-PUBLISHED-TTL:PT1H
BEGIN:VTIMEZONE
TZID:Europe/Berlin
BEGIN:DAYLIGHT
TZOFFSETFROM:+0100
TZOFFSETTO:+0200
TZNAME:CEST
DTSTART:20220327T010000
END:DAYLIGHT
BEGIN:STANDARD
TZOFFSETFROM:+0200
TZOFFSETTO:+0100
TZNAME:CET
DTSTART:20221030T010000
END:STANDARD
END:VTIMEZONE
BEGIN:VEVENT
DTSTART;TZID=Europe/Berlin:20220108T120000
DTEND;TZID=Europe/Berlin:20220108T170000
DTSTAMP:20260425T212250
CREATED:20210926T124947Z
LAST-MODIFIED:20220103T172143Z
UID:2428-1641643200-1641661200@www.pfadi-sarnen.ch
SUMMARY:Schlitteln
DESCRIPTION:Wie alle Jahre\, laden wir auch 2022 euch zum Schlittelplausch ein. \nDiesen Samstag besuchen wir das Langis und verbringen unsere Zeit möglichst nah am Schnee. Wir werden mit dem Bus reisen\, was auch einen kleinen Umkostenbeitrag fällig macht. Wir treffen uns um 11:50 am Bahnhof in Sarnen \nAnmeldung: Klick Mich! \n  \nMitnehmen: \n\nSchneeausrüstung (Handschuhe\, gutes Schuwerk und Skibekleidung)\neinen Helm\neinen Schlitten (oder ändliches)\n5.- CHF (für Reisekösten\, bitte möglichst passend mitnehmen\, damit es einfacher eingesammelt werden kann)\nz’Vieri (evtl. etwas Tee oder ändliches)\nnatürlich gute Laune\n\nWir freuen uns auf dich!!
URL:https://www.pfadi-sarnen.ch/kalender/schlitteln-2/
CATEGORIES:Abteilung
END:VEVENT
END:VCALENDAR