BEGIN:VCALENDAR
VERSION:2.0
PRODID:-//Pfadi Sarnen - ECPv5.16.1.1//NONSGML v1.0//EN
CALSCALE:GREGORIAN
METHOD:PUBLISH
X-WR-CALNAME:Pfadi Sarnen
X-ORIGINAL-URL:https://www.pfadi-sarnen.ch
X-WR-CALDESC:Veranstaltungen für Pfadi Sarnen
REFRESH-INTERVAL;VALUE=DURATION:PT1H
X-Robots-Tag:noindex
X-PUBLISHED-TTL:PT1H
BEGIN:VTIMEZONE
TZID:Europe/Berlin
BEGIN:DAYLIGHT
TZOFFSETFROM:+0100
TZOFFSETTO:+0200
TZNAME:CEST
DTSTART:20220327T010000
END:DAYLIGHT
BEGIN:STANDARD
TZOFFSETFROM:+0200
TZOFFSETTO:+0100
TZNAME:CET
DTSTART:20221030T010000
END:STANDARD
END:VTIMEZONE
BEGIN:VEVENT
DTSTART;TZID=Europe/Berlin:20220122T080000
DTEND;TZID=Europe/Berlin:20220124T220000
DTSTAMP:20260425T212111
CREATED:20220122T093449Z
LAST-MODIFIED:20220122T093449Z
UID:2526-1642838400-1643061600@www.pfadi-sarnen.ch
SUMMARY:Anmeldung Besuchstag Pfadistufe
DESCRIPTION:Der uns zugeteilte Besuchstag ist Donnerstag der 04.08.2022 (Donnerstag in der zweiten Lagerwoche). Achtung: Die Teilnahme am Besuchstag bietet die einzige Möglichkeit\, die Pfadi-Abteilung im mova zu besuchen. Spontan-Besuche\, eine individuelle Anreise sowie die Anfahrt mit dem Auto oder Velo sind nicht möglich. Füllt die Anmeldung bis spätestens Montag den 24.01. aus. \nAnmeldelink: https://forms.gle/WRGd5yZMbLMxiDug7 \nBitte beachtet alle angebgebenen Hinweise und informiert euch weiter über den Besuchstag unter: https://www.mova.ch/das-mova-oeffnet-seine-tueren-nimm-am-besuchstag-teil \nBei weiteren Fragen oder Unklarheiten Blöff kontaktieren.
URL:https://www.pfadi-sarnen.ch/kalender/anmeldung-besuchstag-pfadistufe/
CATEGORIES:Pfadi
ORGANIZER;CN="Bl%C3%B6ff":MAILTO:dariusburch4@gmail.com
END:VEVENT
END:VCALENDAR