BEGIN:VCALENDAR
VERSION:2.0
PRODID:-//Pfadi Sarnen - ECPv5.16.1.1//NONSGML v1.0//EN
CALSCALE:GREGORIAN
METHOD:PUBLISH
X-WR-CALNAME:Pfadi Sarnen
X-ORIGINAL-URL:https://www.pfadi-sarnen.ch
X-WR-CALDESC:Veranstaltungen für Pfadi Sarnen
REFRESH-INTERVAL;VALUE=DURATION:PT1H
X-Robots-Tag:noindex
X-PUBLISHED-TTL:PT1H
BEGIN:VTIMEZONE
TZID:Europe/Berlin
BEGIN:DAYLIGHT
TZOFFSETFROM:+0100
TZOFFSETTO:+0200
TZNAME:CEST
DTSTART:20220327T010000
END:DAYLIGHT
BEGIN:STANDARD
TZOFFSETFROM:+0200
TZOFFSETTO:+0100
TZNAME:CET
DTSTART:20221030T010000
END:STANDARD
END:VTIMEZONE
BEGIN:VEVENT
DTSTART;TZID=Europe/Berlin:20220312T140000
DTEND;TZID=Europe/Berlin:20220312T170000
DTSTAMP:20260425T180223
CREATED:20210926T125116Z
LAST-MODIFIED:20220308T193645Z
UID:2434-1647093600-1647104400@www.pfadi-sarnen.ch
SUMMARY:Pfadiaktivität 12.03.
DESCRIPTION:Thema der Aktiviät: Das allseits beliebte Amongus live! \nEin interaktives mehrründiges Action\, Rätsel und Drama Spiel direkt vor Ort im Pfadiheim. Mitzunehmen Verpflegung und Motivation. Es gilt: Je mehr Spieler desto besser! Wir freuen uns auf euch.
URL:https://www.pfadi-sarnen.ch/kalender/aktivitaet-4/
LOCATION:Pfadiheim
CATEGORIES:Pfadi
ORGANIZER;CN="Bl%C3%B6ff":MAILTO:dariusburch4@gmail.com
END:VEVENT
BEGIN:VEVENT
DTSTART;TZID=Europe/Berlin:20220312T140000
DTEND;TZID=Europe/Berlin:20220312T170000
DTSTAMP:20260425T180223
CREATED:20220309T193714Z
LAST-MODIFIED:20220309T193729Z
UID:2545-1647093600-1647104400@www.pfadi-sarnen.ch
SUMMARY:Wölfliaktivität
DESCRIPTION:Ahoi Piraten! \nGerade konnten wir noch super Erfolg beim finden unseres Schatzes feiern. Doch wie die sieben Weltmeer halt sind\, kann das Wetter plötzlich komplett umschlagen. Etwas schreckliches wird mit unser Piratencrew passieren und nur du kannst uns helfen das Boot wieder in sichere Gewässer zu manövrieren. Also komm diesen Samstag 09.03.2022 um 14:00 ins Pfadiheim\, wir sind auf dich angewiesen!!!!! \nMitnehmen: \n\nWetterangepasste Kleidung\nEine Zwischenverpflegung\nGute Laune\n\nEuer Piratenteam \nJuba 079 781 66 58\, bei Fragen stehe ich euch zu Verfügung.
URL:https://www.pfadi-sarnen.ch/kalender/woelfliaktivitaet-8/
LOCATION:Pfadiheim
CATEGORIES:Wölfli
END:VEVENT
END:VCALENDAR