BEGIN:VCALENDAR
VERSION:2.0
PRODID:-//Pfadi Sarnen - ECPv5.16.1.1//NONSGML v1.0//EN
CALSCALE:GREGORIAN
METHOD:PUBLISH
X-ORIGINAL-URL:https://www.pfadi-sarnen.ch
X-WR-CALDESC:Veranstaltungen für Pfadi Sarnen
REFRESH-INTERVAL;VALUE=DURATION:PT1H
X-Robots-Tag:noindex
X-PUBLISHED-TTL:PT1H
BEGIN:VTIMEZONE
TZID:Europe/Berlin
BEGIN:DAYLIGHT
TZOFFSETFROM:+0100
TZOFFSETTO:+0200
TZNAME:CEST
DTSTART:20220327T010000
END:DAYLIGHT
BEGIN:STANDARD
TZOFFSETFROM:+0200
TZOFFSETTO:+0100
TZNAME:CET
DTSTART:20221030T010000
END:STANDARD
END:VTIMEZONE
BEGIN:VEVENT
DTSTART;TZID=Europe/Berlin:20220507T140000
DTEND;TZID=Europe/Berlin:20220507T170000
DTSTAMP:20260425T143641
CREATED:20210926T125329Z
LAST-MODIFIED:20220505T083914Z
UID:2442-1651932000-1651942800@www.pfadi-sarnen.ch
SUMMARY:Abteilungsaktivität und Plauschanlass mit Eltern
DESCRIPTION:Auch diesen Samstag findet wieder eine Aktivität statt. Doch diesmal können die Pfadis und Wöflis sogar ihre Eltern und Geschwister mitbringen. Es wird verschiedene Herausforderungen zwischen Eltern und Pfadis/Wöflis geben\, die anschliessend mit einem Apéro enden. \nZeit: 14.00- 17.00 \nMitbringen: wetterangepasste Kleidung\, gute Laune\, Eure Eltern 🙂 \nWir freuen uns auf euch. \nBei Fragen: Fabian Scheuenpflug/Lama 079 465 27 22 \n \n 
URL:https://www.pfadi-sarnen.ch/kalender/abteilungsaktivitaet-und-plauschanlass-mit-eltern/
END:VEVENT
END:VCALENDAR