BEGIN:VCALENDAR
VERSION:2.0
PRODID:-//Pfadi Sarnen - ECPv5.16.1.1//NONSGML v1.0//EN
CALSCALE:GREGORIAN
METHOD:PUBLISH
X-ORIGINAL-URL:https://www.pfadi-sarnen.ch
X-WR-CALDESC:Veranstaltungen für Pfadi Sarnen
REFRESH-INTERVAL;VALUE=DURATION:PT1H
X-Robots-Tag:noindex
X-PUBLISHED-TTL:PT1H
BEGIN:VTIMEZONE
TZID:Europe/Berlin
BEGIN:DAYLIGHT
TZOFFSETFROM:+0100
TZOFFSETTO:+0200
TZNAME:CEST
DTSTART:20220327T010000
END:DAYLIGHT
BEGIN:STANDARD
TZOFFSETFROM:+0200
TZOFFSETTO:+0100
TZNAME:CET
DTSTART:20221030T010000
END:STANDARD
END:VTIMEZONE
BEGIN:VEVENT
DTSTART;TZID=Europe/Berlin:20221119T140000
DTEND;TZID=Europe/Berlin:20221119T170000
DTSTAMP:20260425T040658
CREATED:20220811T083943Z
LAST-MODIFIED:20221119T074646Z
UID:2616-1668866400-1668877200@www.pfadi-sarnen.ch
SUMMARY:Aktivität Pfadi
DESCRIPTION:Hallo Zusammen wir haben eine neue Webseite: pfadisarnen.ch \, bitte brauche in Zukunft die neue Webseite. \nUm die Aktivitäten in Zukunft anzuschauen klicke auf: https://pfadisarnen.ch/aktivitaten/ \nLiebe Pfadis \nWir sind auf dem Weg ins Pfadilager\, doch leider haben wird unseren Anschlusszug zum Lagerplatz verpasst. Um doch ins Lager zu gehen\, müssen wir einen Weg finden\, die Zeit zurückzudrehen und doch noch den Zug zu erwischen. Wir brauchen deine Hilfe! \nMitnehmen musst du nur deine Pfadikrawatte\, wetterangepasste Kleidung und natürlich gute Laune. \nWir freuen uns auf dich:) \n 
URL:https://www.pfadi-sarnen.ch/kalender/aktivitaet-10/
END:VEVENT
BEGIN:VEVENT
DTSTART;TZID=Europe/Berlin:20221119T140000
DTEND;TZID=Europe/Berlin:20221119T170000
DTSTAMP:20260425T040658
CREATED:20221119T073630Z
LAST-MODIFIED:20221119T073630Z
UID:2720-1668866400-1668877200@www.pfadi-sarnen.ch
SUMMARY:Aktivität Wölfli
DESCRIPTION:Hallo Zusammen wir haben eine neue Webseite: pfadisarnen.ch \, bitte brauche in Zukunft die neue Webseite. \nUm die Aktivitäten auf der neuen Webseite anzuschauen klicke auf: https://pfadisarnen.ch/aktivitaten/ \nLiebe Wölfli \nDiesen Samstag (19.11.2022) treffen wir uns wieder zu einem coolen Nachmittag. Kommt wie üblich um 14:00 Uhr zum Pfadiheim. \nMitbringen: \n\nZnüni\nBecher\nKissen\nGute Laune 😉\n\nWir freuen uns auf euch. \nEuer Leitungsteam
URL:https://www.pfadi-sarnen.ch/kalender/aktivitaet-woelfli/
END:VEVENT
END:VCALENDAR