BEGIN:VCALENDAR
VERSION:2.0
PRODID:-//Pfadi Sarnen - ECPv5.16.1.1//NONSGML v1.0//EN
CALSCALE:GREGORIAN
METHOD:PUBLISH
X-ORIGINAL-URL:https://www.pfadi-sarnen.ch
X-WR-CALDESC:Veranstaltungen für Pfadi Sarnen
REFRESH-INTERVAL;VALUE=DURATION:PT1H
X-Robots-Tag:noindex
X-PUBLISHED-TTL:PT1H
BEGIN:VTIMEZONE
TZID:Europe/Berlin
BEGIN:DAYLIGHT
TZOFFSETFROM:+0100
TZOFFSETTO:+0200
TZNAME:CEST
DTSTART:20210328T010000
END:DAYLIGHT
BEGIN:STANDARD
TZOFFSETFROM:+0200
TZOFFSETTO:+0100
TZNAME:CET
DTSTART:20211031T010000
END:STANDARD
END:VTIMEZONE
BEGIN:VEVENT
DTSTART;TZID=Europe/Berlin:20210904T140000
DTEND;TZID=Europe/Berlin:20210904T170000
DTSTAMP:20260426T013127
CREATED:20201010T113445Z
LAST-MODIFIED:20210816T202209Z
UID:2125-1630764000-1630774800@www.pfadi-sarnen.ch
SUMMARY:Wölfli- & Pfadiaktivität
DESCRIPTION:  \n  \n 
URL:https://www.pfadi-sarnen.ch/kalender/woelfli-pfadiaktivitaet-23/
CATEGORIES:Wölfli
END:VEVENT
BEGIN:VEVENT
DTSTART;TZID=Europe/Berlin:20210904T140000
DTEND;TZID=Europe/Berlin:20210904T170000
DTSTAMP:20260426T013127
CREATED:20210901T173655Z
LAST-MODIFIED:20210901T173757Z
UID:2384-1630764000-1630774800@www.pfadi-sarnen.ch
SUMMARY:Wölfliaktivität
DESCRIPTION:Liebe Wölflis \nAm kommenden Samstag werden wir die letzten Vorbereitungen für die Chilbi erledigen. Komme doch auch und und hilf uns dabei die Wunderpacktli zu Verpacken. \nMitnehmen: \n-Geschenkspapier \n-Scheren \n-Klebeband \n-Zvieri und Getränke \n-Wetter angepasste Kleidung \n \nBei Fragen: \nJuba / David Wyss (079 781 66 58) \nWir freuen uns auf euch! \nEuer Wölfliteam
URL:https://www.pfadi-sarnen.ch/kalender/woelfliaktivitaet-7/
LOCATION:Pfadiheim
CATEGORIES:Wölfli
ORGANIZER;CN="Jubatus":MAILTO:davidzwyss@bluewin.ch
END:VEVENT
BEGIN:VEVENT
DTSTART;TZID=Europe/Berlin:20210904T140000
DTEND;TZID=Europe/Berlin:20210904T170000
DTSTAMP:20260426T013127
CREATED:20210902T162329Z
LAST-MODIFIED:20210902T162329Z
UID:2388-1630764000-1630774800@www.pfadi-sarnen.ch
SUMMARY:Kuchenzettel verteilen
DESCRIPTION:Alle Jahre wieder steht das Kuchenzettelverteilen bevor. Kommt alle mit Helm und Fahrrad wie gewohnt um 2 Uhr zum Pfadiheim\, wir freuen uns auf euch!
URL:https://www.pfadi-sarnen.ch/kalender/kuchenzettel-verteilen-2/
LOCATION:Pfadiheim
CATEGORIES:Pfadi
ORGANIZER;CN="Bl%C3%B6ff":MAILTO:dariusburch4@gmail.com
END:VEVENT
BEGIN:VEVENT
DTSTART;VALUE=DATE:20210910
DTEND;VALUE=DATE:20210913
DTSTAMP:20260426T013127
CREATED:20201010T113530Z
LAST-MODIFIED:20201010T113530Z
UID:2127-1631232000-1631491199@www.pfadi-sarnen.ch
SUMMARY:61. Sarner Dorfchilbi
DESCRIPTION:
URL:https://www.pfadi-sarnen.ch/kalender/61-sarner-dorfchilbi/
CATEGORIES:Abteilung,Allgemein,Pfadi,Wölfli
END:VEVENT
BEGIN:VEVENT
DTSTART;TZID=Europe/Berlin:20210925T140000
DTEND;TZID=Europe/Berlin:20210925T170000
DTSTAMP:20260426T013127
CREATED:20201010T113629Z
LAST-MODIFIED:20210925T090921Z
UID:2129-1632578400-1632589200@www.pfadi-sarnen.ch
SUMMARY:Schnupperaktivität + Elternabend
DESCRIPTION:Wir freuen uns euch eine typische Pfadiaktivität zu zeigen. \nTreffpunkt ist um 14 Uhr beim Pfadi Heim in Sarnen\, es geht bis 17 Uhr. \nMitnehmen: \n\nPfadi  Hemd & Cravatte (falls vorhanden)\nEtwas zu Trinken\nZnüni\nWetter Angepasste Kleidung\nGute Laune\n\n  \nFür alle Eltern findet um 16:30 eine kurze Vorstellung der Pfadi-Sarnen statt. \nFalls Ihr ein wenig mehr über unsere Verein erfahren möchtet oder noch Fragen habt laden wir euch ganz herzlich ein. \n 
URL:https://www.pfadi-sarnen.ch/kalender/schnupperaktivitaet-elternabend/
CATEGORIES:Allgemein,Pfadi,Wölfli
END:VEVENT
BEGIN:VEVENT
DTSTART;TZID=Europe/Berlin:20210926T180000
DTEND;TZID=Europe/Berlin:20210926T203000
DTSTAMP:20260426T013127
CREATED:20210920T190147Z
LAST-MODIFIED:20211007T161548Z
UID:2403-1632679200-1632688200@www.pfadi-sarnen.ch
SUMMARY:Lagerfotoabend
DESCRIPTION:Liebe Eltern und Teilnehmende \nHier sind noch die Fotos aller Lager für euch zum Download bereit. \nhttps://www.swisstransfer.com/d/b7a2f71e-6902-4b75-91e5-c59e4d433c3e \n 
URL:https://www.pfadi-sarnen.ch/kalender/lagerfotoabend-3/
LOCATION:Pfadiheim\, Sarnen\, Pfadiheim\, Sarnen\, 6060\, Schweiz
CATEGORIES:Abteilung
ORGANIZER;CN="Lama":MAILTO:fabianscheunpflug@hotmail.ch
END:VEVENT
END:VCALENDAR