BEGIN:VCALENDAR
VERSION:2.0
PRODID:-//Pfadi Sarnen - ECPv5.16.1.1//NONSGML v1.0//EN
CALSCALE:GREGORIAN
METHOD:PUBLISH
X-WR-CALNAME:Pfadi Sarnen
X-ORIGINAL-URL:https://www.pfadi-sarnen.ch
X-WR-CALDESC:Veranstaltungen für Pfadi Sarnen
REFRESH-INTERVAL;VALUE=DURATION:PT1H
X-Robots-Tag:noindex
X-PUBLISHED-TTL:PT1H
BEGIN:VTIMEZONE
TZID:Europe/Berlin
BEGIN:DAYLIGHT
TZOFFSETFROM:+0100
TZOFFSETTO:+0200
TZNAME:CEST
DTSTART:20210328T010000
END:DAYLIGHT
BEGIN:STANDARD
TZOFFSETFROM:+0200
TZOFFSETTO:+0100
TZNAME:CET
DTSTART:20211031T010000
END:STANDARD
END:VTIMEZONE
BEGIN:VEVENT
DTSTART;TZID=Europe/Berlin:20211023T075000
DTEND;TZID=Europe/Berlin:20211023T164000
DTSTAMP:20260426T001555
CREATED:20211018T055056Z
LAST-MODIFIED:20211023T060108Z
UID:2462-1634975400-1635007200@www.pfadi-sarnen.ch
SUMMARY:Wölfli Kantonaltag am 23.10
DESCRIPTION:Hoi Zusammen \nNa freut ihr euch auch so auf den Samstag? Nachdem der KATA zwei mal verschoben wurde ist es nun soweit. \nWir treffen uns um 7.50 Uhr am Bahnhof in Sarnen. Bitte seit pünktlich\, da wir auf den Zug gehen. \nMitnehmen \n– Trinken (evtl. auch Tee) \n-Znüni/Zvieri bei Bedarf (Zmittag ist organisiert) \n-warme und dem Wetter angepasste Kleidung! (wirs werden den ganzen Tag draussen sein). Wäre cool\, wenn alle ihre Wölfli Kleidung tragen würden. \nWir freuen uns auf einen spannenden Tag mit vielen anderen Wölflis aus Unterwalden. \nEuer Wölfliteam und bis bald \nBei Fragen bin ich für euch da: 078 764 78 82  (Spatz)
URL:https://www.pfadi-sarnen.ch/kalender/woelfli-kantonaltag-am-23-10/
END:VEVENT
BEGIN:VEVENT
DTSTART;TZID=Europe/Berlin:20211030T140000
DTEND;TZID=Europe/Berlin:20211030T170000
DTSTAMP:20260426T001555
CREATED:20201010T113733Z
LAST-MODIFIED:20211024T203339Z
UID:2131-1635602400-1635613200@www.pfadi-sarnen.ch
SUMMARY:Schnupperaktivität + Elternabend
DESCRIPTION:Nachdem wir letztes mal unsere Kasse wieder zurück ergattern konnten\, ist es nun endlich so weit! Wir können endlich ins Lager\, auf welches wir uns schon so lange gefreut haben! Treffpunkt ist um 14 Uhr beim Pfadi Heim in Sarnen\, das Programm dauert bis 17 Uhr doch alle sind eingeladen noch länger zu bleiben und Schlangenbrot über dem Feuer zu braten. \n\n\n\n\n\n\n\nMitnehmen: \n\n\n\n\nPfadi  Hemd & Cravatte (falls vorhanden)\nEtwas zu Trinken\nZnüni\nWetter Angepasste Kleidung\nGute Laune\n\n\n\n\nFür alle Eltern\, die letztes mal nicht konnten\, findet um 16:30 eine kurze Vorstellung der Pfadi-Sarnen statt. \n\n\n\n\n\nWir freuen uns!
URL:https://www.pfadi-sarnen.ch/kalender/schnupperaktivitaet-elternabend-2/
CATEGORIES:Allgemein,Pfadi,Wölfli
END:VEVENT
END:VCALENDAR