BEGIN:VCALENDAR
VERSION:2.0
PRODID:-//Pfadi Sarnen - ECPv5.16.1.1//NONSGML v1.0//EN
CALSCALE:GREGORIAN
METHOD:PUBLISH
X-ORIGINAL-URL:https://www.pfadi-sarnen.ch
X-WR-CALDESC:Veranstaltungen für Pfadi Sarnen
REFRESH-INTERVAL;VALUE=DURATION:PT1H
X-Robots-Tag:noindex
X-PUBLISHED-TTL:PT1H
BEGIN:VTIMEZONE
TZID:Europe/Berlin
BEGIN:DAYLIGHT
TZOFFSETFROM:+0100
TZOFFSETTO:+0200
TZNAME:CEST
DTSTART:20220327T010000
END:DAYLIGHT
BEGIN:STANDARD
TZOFFSETFROM:+0200
TZOFFSETTO:+0100
TZNAME:CET
DTSTART:20221030T010000
END:STANDARD
END:VTIMEZONE
BEGIN:VEVENT
DTSTART;TZID=Europe/Berlin:20220205T140000
DTEND;TZID=Europe/Berlin:20220205T170000
DTSTAMP:20260425T180449
CREATED:20210926T125035Z
LAST-MODIFIED:20220201T194215Z
UID:2432-1644069600-1644080400@www.pfadi-sarnen.ch
SUMMARY:Pfadiaktivität 05.02.22
DESCRIPTION:Die Mafia ist aus Norditalien verschwunden. Das ist unsere Chance\, um neue Organisationen zu gründen und damit schnelles Geld zu verdienen. \nTreffpunkt ist um 14:00 im Pfadiheim \nKommt in Mafia Verkleidung (Hut\, Sonnenbrille\, …) und nehmt euer Z’Vieri mit.
URL:https://www.pfadi-sarnen.ch/kalender/aktivitaet-3/
LOCATION:Pfadiheim\, Sarnen\, Pfadiheim\, Sarnen\, 6060\, Schweiz
CATEGORIES:Pfadi
ORGANIZER;CN="Bl%C3%B6ff":MAILTO:dariusburch4@gmail.com
END:VEVENT
BEGIN:VEVENT
DTSTART;TZID=Europe/Berlin:20220205T140000
DTEND;TZID=Europe/Berlin:20220205T170000
DTSTAMP:20260425T180449
CREATED:20220202T182550Z
LAST-MODIFIED:20220202T182550Z
UID:2538-1644069600-1644080400@www.pfadi-sarnen.ch
SUMMARY:Wölfliaktivität 5.2
DESCRIPTION:Ahoi Piraten! \nNächsten Samstag geht es weiter mit unserer Schiffsreise. Dieses Mal begeben wir uns auf Schatzsuche\, also macht euch bereit\, die Sieben Weltmeere zu erkunden. \nWir treffen uns wie immer um 14:00 Uhr im Pfadiheim und sind um 17:00 hoffentlich mit einem  prächtigen Schatz zurück. \nMitnehmen: \n\nWetterangepasste Kleidung\nEine Zwischenverpflegung\nGute Laune\n\nEuer Piratenteam \nSpatz -> 078 764 78 82\, bei Fragen stehe ich euch zu Verfügung. \n \n 
URL:https://www.pfadi-sarnen.ch/kalender/woelfliaktivitaet-5-2/
CATEGORIES:Wölfli
END:VEVENT
END:VCALENDAR