BEGIN:VCALENDAR
VERSION:2.0
PRODID:-//Pfadi Sarnen - ECPv5.16.1.1//NONSGML v1.0//EN
CALSCALE:GREGORIAN
METHOD:PUBLISH
X-ORIGINAL-URL:https://www.pfadi-sarnen.ch
X-WR-CALDESC:Veranstaltungen für Pfadi Sarnen
REFRESH-INTERVAL;VALUE=DURATION:PT1H
X-Robots-Tag:noindex
X-PUBLISHED-TTL:PT1H
BEGIN:VTIMEZONE
TZID:Europe/Berlin
BEGIN:DAYLIGHT
TZOFFSETFROM:+0100
TZOFFSETTO:+0200
TZNAME:CEST
DTSTART:20220327T010000
END:DAYLIGHT
BEGIN:STANDARD
TZOFFSETFROM:+0200
TZOFFSETTO:+0100
TZNAME:CET
DTSTART:20221030T010000
END:STANDARD
END:VTIMEZONE
BEGIN:VEVENT
DTSTART;TZID=Europe/Berlin:20221022T140000
DTEND;TZID=Europe/Berlin:20221022T170000
DTSTAMP:20260425T040656
CREATED:20220811T083748Z
LAST-MODIFIED:20221019T160732Z
UID:2610-1666447200-1666458000@www.pfadi-sarnen.ch
SUMMARY:2. Schnupperaktivität
DESCRIPTION:Liebe Kinder! \nDir hat unser Vorstellung in der Schule oder die letzte Aktivität gefallen\, dann komm doch diesen Samstag 22.10.2022 um 14:oo zu uns ins Pfadiheim. Wir werden den ganzen Nachmittag mit tollen Spiele verbringen! Wir freuen uns auf dich! \nEure Pfadi Sarnen \n \nMitnehmen: \n\nPfadihemd & Krawatte (falls vorhanden)\nEtwas zu Trinken\nZnüni\nWetterangepasste Kleidung\nGute Laune\n\n  \nFür alle Eltern findet um 16:30 eine kurze Vorstellung der Pfadi-Sarnen statt. Diejenigen welche dieser Vorstellung letztes mal besucht haben\, müssen nicht mehr kommen.  \nFalls Ihr ein wenig mehr über unsere Verein erfahren möchtet oder noch Fragen habt laden wir euch ganz herzlich ein. \n  \n 
URL:https://www.pfadi-sarnen.ch/kalender/2-schnupperaktivitaet/
END:VEVENT
END:VCALENDAR