BEGIN:VCALENDAR
VERSION:2.0
PRODID:-//Pfadi Sarnen - ECPv5.16.1.1//NONSGML v1.0//EN
CALSCALE:GREGORIAN
METHOD:PUBLISH
X-ORIGINAL-URL:https://www.pfadi-sarnen.ch
X-WR-CALDESC:Veranstaltungen für Pfadi Sarnen
REFRESH-INTERVAL;VALUE=DURATION:PT1H
X-Robots-Tag:noindex
X-PUBLISHED-TTL:PT1H
BEGIN:VTIMEZONE
TZID:Europe/Berlin
BEGIN:DAYLIGHT
TZOFFSETFROM:+0100
TZOFFSETTO:+0200
TZNAME:CEST
DTSTART:20220327T010000
END:DAYLIGHT
BEGIN:STANDARD
TZOFFSETFROM:+0200
TZOFFSETTO:+0100
TZNAME:CET
DTSTART:20221030T010000
END:STANDARD
END:VTIMEZONE
BEGIN:VEVENT
DTSTART;TZID=Europe/Berlin:20221102T080000
DTEND;TZID=Europe/Berlin:20221102T170000
DTSTAMP:20260425T021853
CREATED:20221102T165348Z
LAST-MODIFIED:20221102T171803Z
UID:2706-1667376000-1667408400@www.pfadi-sarnen.ch
SUMMARY:Aktivität Wolfsstufe
DESCRIPTION:Liebi Wölfli \nWie üblich wird auch diesen Samstag wieder eine super coole Wölfliaktivität stattfinden. Euch erwartet viel Spass und ein lässtiger Nachmittag. \nKomm also diesen Samstag um 14:00 zu uns ins Pfadiheim! \nMitnehemn: \n\nWetterangepasste Kleider\nBecher\nKleines Znüni\nund gute Laune 😉\n\nWir freuen uns auf Euch. \nEuer Wöfliteam \n  \nPs: Die neue Website der Pfadi Sarnen können Sie  unter folgendem Link abrufen und sie wirdr ab sofort genutzt: https://pfadisarnen.ch/ \nDiese Website auf der Sie sich befinden\, wird in naher Zukunft nicht mehr betrieben.
URL:https://www.pfadi-sarnen.ch/kalender/aktivitaet-wolfsstufe/
CATEGORIES:Wölfli
END:VEVENT
BEGIN:VEVENT
DTSTART;TZID=Europe/Berlin:20221105T130000
DTEND;TZID=Europe/Berlin:20221105T140000
DTSTAMP:20260425T021853
CREATED:20220811T083846Z
LAST-MODIFIED:20220811T083846Z
UID:2612-1667653200-1667656800@www.pfadi-sarnen.ch
SUMMARY:Einkleiden
DESCRIPTION:
URL:https://www.pfadi-sarnen.ch/kalender/einkleiden-3/
END:VEVENT
BEGIN:VEVENT
DTSTART;TZID=Europe/Berlin:20221105T140000
DTEND;TZID=Europe/Berlin:20221105T170000
DTSTAMP:20260425T021853
CREATED:20220811T083924Z
LAST-MODIFIED:20221102T193342Z
UID:2614-1667656800-1667667600@www.pfadi-sarnen.ch
SUMMARY:Aktivität Wölfli
DESCRIPTION:Hallo Zusammen. Wir haben eine neue Webseite! Bitte benutze in Zukunft die Webseite www.pfadisarnen.ch \nLiebi Wölfli \nWie üblich wird auch diesen Samstag wieder eine super coole Wölfliaktivität stattfinden. Euch erwartet viel Spass und ein lässiger Nachmittag. \nKomm also diesen Samstag um 14:00 zu uns ins Pfadiheim! \nMitnehmen: \n\nWetterangepasste Kleider\nBecher\nKleines Znüni\nund gute Laune 😉\n\nWir freuen uns auf Euch. \nEuer Wöfliteam
URL:https://www.pfadi-sarnen.ch/kalender/aktivitaet-9/
END:VEVENT
BEGIN:VEVENT
DTSTART;TZID=Europe/Berlin:20221105T140000
DTEND;TZID=Europe/Berlin:20221105T170000
DTSTAMP:20260425T021853
CREATED:20221102T194433Z
LAST-MODIFIED:20221102T194507Z
UID:2714-1667656800-1667667600@www.pfadi-sarnen.ch
SUMMARY:Aktivität Pfadi
DESCRIPTION:Hallo Zusammen. Wir haben eine neue Webseite! Bitte benutze in Zukunft die Webseite www.pfadisarnen.ch \nLiebe Pfadis \nLeider haben wir den Zug ins Pfadi-Lager verpasst. Werdet ihr es schaffen eine Zeitmaschine zubauen um zurück in die Vergangenheit zugelangen? \nDer Treffpunkt ist um 14:00 Uhr beim Pfadiheim. \nMitnehmen: \n\nPfadikrawatte\nSackmesser\nwetterangepasste Kleidung\n\nDas Pfadi Leiter Team freut sich auf euch
URL:https://www.pfadi-sarnen.ch/kalender/aktivitaet-pfadi/
END:VEVENT
BEGIN:VEVENT
DTSTART;TZID=Europe/Berlin:20221119T140000
DTEND;TZID=Europe/Berlin:20221119T170000
DTSTAMP:20260425T021853
CREATED:20220811T083943Z
LAST-MODIFIED:20221119T074646Z
UID:2616-1668866400-1668877200@www.pfadi-sarnen.ch
SUMMARY:Aktivität Pfadi
DESCRIPTION:Hallo Zusammen wir haben eine neue Webseite: pfadisarnen.ch \, bitte brauche in Zukunft die neue Webseite. \nUm die Aktivitäten in Zukunft anzuschauen klicke auf: https://pfadisarnen.ch/aktivitaten/ \nLiebe Pfadis \nWir sind auf dem Weg ins Pfadilager\, doch leider haben wird unseren Anschlusszug zum Lagerplatz verpasst. Um doch ins Lager zu gehen\, müssen wir einen Weg finden\, die Zeit zurückzudrehen und doch noch den Zug zu erwischen. Wir brauchen deine Hilfe! \nMitnehmen musst du nur deine Pfadikrawatte\, wetterangepasste Kleidung und natürlich gute Laune. \nWir freuen uns auf dich:) \n 
URL:https://www.pfadi-sarnen.ch/kalender/aktivitaet-10/
END:VEVENT
BEGIN:VEVENT
DTSTART;TZID=Europe/Berlin:20221119T140000
DTEND;TZID=Europe/Berlin:20221119T170000
DTSTAMP:20260425T021853
CREATED:20221119T073630Z
LAST-MODIFIED:20221119T073630Z
UID:2720-1668866400-1668877200@www.pfadi-sarnen.ch
SUMMARY:Aktivität Wölfli
DESCRIPTION:Hallo Zusammen wir haben eine neue Webseite: pfadisarnen.ch \, bitte brauche in Zukunft die neue Webseite. \nUm die Aktivitäten auf der neuen Webseite anzuschauen klicke auf: https://pfadisarnen.ch/aktivitaten/ \nLiebe Wölfli \nDiesen Samstag (19.11.2022) treffen wir uns wieder zu einem coolen Nachmittag. Kommt wie üblich um 14:00 Uhr zum Pfadiheim. \nMitbringen: \n\nZnüni\nBecher\nKissen\nGute Laune 😉\n\nWir freuen uns auf euch. \nEuer Leitungsteam
URL:https://www.pfadi-sarnen.ch/kalender/aktivitaet-woelfli/
END:VEVENT
END:VCALENDAR