BEGIN:VCALENDAR
VERSION:2.0
PRODID:-//Pfadi Sarnen - ECPv5.16.1.1//NONSGML v1.0//EN
CALSCALE:GREGORIAN
METHOD:PUBLISH
X-WR-CALNAME:Pfadi Sarnen
X-ORIGINAL-URL:https://www.pfadi-sarnen.ch
X-WR-CALDESC:Veranstaltungen für Pfadi Sarnen
REFRESH-INTERVAL;VALUE=DURATION:PT1H
X-Robots-Tag:noindex
X-PUBLISHED-TTL:PT1H
BEGIN:VTIMEZONE
TZID:Europe/Berlin
BEGIN:DAYLIGHT
TZOFFSETFROM:+0100
TZOFFSETTO:+0200
TZNAME:CEST
DTSTART:20220327T010000
END:DAYLIGHT
BEGIN:STANDARD
TZOFFSETFROM:+0200
TZOFFSETTO:+0100
TZNAME:CET
DTSTART:20221030T010000
END:STANDARD
END:VTIMEZONE
BEGIN:VEVENT
DTSTART;TZID=Europe/Berlin:20221203T130000
DTEND;TZID=Europe/Berlin:20221203T170000
DTSTAMP:20260425T002514
CREATED:20220811T084011Z
LAST-MODIFIED:20220811T084011Z
UID:2618-1670072400-1670086800@www.pfadi-sarnen.ch
SUMMARY:Schlittschuhlaufen
DESCRIPTION:
URL:https://www.pfadi-sarnen.ch/kalender/schlittschuhlaufen-3/
END:VEVENT
BEGIN:VEVENT
DTSTART;TZID=Europe/Berlin:20221217T140000
DTEND;TZID=Europe/Berlin:20221217T170000
DTSTAMP:20260425T002514
CREATED:20220811T084110Z
LAST-MODIFIED:20220811T084110Z
UID:2620-1671285600-1671296400@www.pfadi-sarnen.ch
SUMMARY:Waldweihnachten
DESCRIPTION:
URL:https://www.pfadi-sarnen.ch/kalender/waldweihnachten-3/
END:VEVENT
END:VCALENDAR