BEGIN:VCALENDAR
VERSION:2.0
PRODID:-//Pfadi Sarnen - ECPv5.16.1.1//NONSGML v1.0//EN
CALSCALE:GREGORIAN
METHOD:PUBLISH
X-WR-CALNAME:Pfadi Sarnen
X-ORIGINAL-URL:https://www.pfadi-sarnen.ch
X-WR-CALDESC:Veranstaltungen für Pfadi Sarnen
REFRESH-INTERVAL;VALUE=DURATION:PT1H
X-Robots-Tag:noindex
X-PUBLISHED-TTL:PT1H
BEGIN:VTIMEZONE
TZID:Europe/Berlin
BEGIN:DAYLIGHT
TZOFFSETFROM:+0100
TZOFFSETTO:+0200
TZNAME:CEST
DTSTART:20230326T010000
END:DAYLIGHT
BEGIN:STANDARD
TZOFFSETFROM:+0200
TZOFFSETTO:+0100
TZNAME:CET
DTSTART:20231029T010000
END:STANDARD
END:VTIMEZONE
BEGIN:VEVENT
DTSTART;TZID=Europe/Berlin:20230401T140000
DTEND;TZID=Europe/Berlin:20230401T170000
DTSTAMP:20260424T175122
CREATED:20220811T084357Z
LAST-MODIFIED:20220811T084357Z
UID:2634-1680357600-1680368400@www.pfadi-sarnen.ch
SUMMARY:Aktivität
DESCRIPTION:
URL:https://www.pfadi-sarnen.ch/kalender/aktivitaet-15/
END:VEVENT
BEGIN:VEVENT
DTSTART;VALUE=DATE:20230429
DTEND;VALUE=DATE:20230430
DTSTAMP:20260424T175122
CREATED:20220811T084540Z
LAST-MODIFIED:20220811T084540Z
UID:2638-1682726400-1682812799@www.pfadi-sarnen.ch
SUMMARY:APV
DESCRIPTION:
URL:https://www.pfadi-sarnen.ch/kalender/apv-3/
END:VEVENT
BEGIN:VEVENT
DTSTART;TZID=Europe/Berlin:20230429T140000
DTEND;TZID=Europe/Berlin:20230429T170000
DTSTAMP:20260424T175122
CREATED:20220811T084506Z
LAST-MODIFIED:20220811T084506Z
UID:2636-1682776800-1682787600@www.pfadi-sarnen.ch
SUMMARY:Aktivität
DESCRIPTION:
URL:https://www.pfadi-sarnen.ch/kalender/aktivitaet-16/
END:VEVENT
END:VCALENDAR