BEGIN:VCALENDAR
VERSION:2.0
PRODID:-//Pfadi Sarnen - ECPv5.16.1.1//NONSGML v1.0//EN
CALSCALE:GREGORIAN
METHOD:PUBLISH
X-ORIGINAL-URL:https://www.pfadi-sarnen.ch
X-WR-CALDESC:Veranstaltungen für Pfadi Sarnen
REFRESH-INTERVAL;VALUE=DURATION:PT1H
X-Robots-Tag:noindex
X-PUBLISHED-TTL:PT1H
BEGIN:VTIMEZONE
TZID:Europe/Berlin
BEGIN:DAYLIGHT
TZOFFSETFROM:+0100
TZOFFSETTO:+0200
TZNAME:CEST
DTSTART:20220327T010000
END:DAYLIGHT
BEGIN:STANDARD
TZOFFSETFROM:+0200
TZOFFSETTO:+0100
TZNAME:CET
DTSTART:20221030T010000
END:STANDARD
END:VTIMEZONE
BEGIN:VEVENT
DTSTART;TZID=Europe/Berlin:20220924T140000
DTEND;TZID=Europe/Berlin:20220924T170000
DTSTAMP:20260424T022209
CREATED:20220811T083700Z
LAST-MODIFIED:20220920T210250Z
UID:2606-1664028000-1664038800@www.pfadi-sarnen.ch
SUMMARY:Schnupperaktivität + Elternabend
DESCRIPTION:Hallo zusammen! \nDir hat unser Vorstellung in der Schule gefallen und du möchtest nun noch genauer erfahren wie der Pfadialltag aussieht. Dann komm doch diesen Samstag 24.09.2022 um 14:oo zu uns ins Pfadiheim. Wir werden den ganzen Nachmittag mit tollen Spiele verbringen! Wir freuen uns auf dich! \nEure Pfadi Sarnen \n \nMitnehmen: \n\nPfadi  Hemd & Cravatte (falls vorhanden)\nEtwas zu Trinken\nZnüni\nWetter Angepasste Kleidung\nGute Laune\n\n  \nFür alle Eltern findet um 16:30 eine kurze Vorstellung der Pfadi-Sarnen statt. \nFalls Ihr ein wenig mehr über unsere Verein erfahren möchtet oder noch Fragen habt laden wir euch ganz herzlich ein. \n  \n 
URL:https://www.pfadi-sarnen.ch/kalender/1-schnupperaktivitaet/
CATEGORIES:Pfadi,Wölfli
ORGANIZER;CN="Jubatus":MAILTO:davidzwyss@bluewin.ch
END:VEVENT
END:VCALENDAR